Workbook

Sheet modello b
A1: DATI CATASTALI
A2: FOGLIO | B2: PARTICELLA | C2: LOTTO | D2: SUPERFICIE (ha) | E2: INDICAZIONE DEL TERRENO INTERESSATO*
A3: 11 | B3: 84 | C3: LOTTO 6 | D3: 1.11.20
A4: 11 | B4: 84 | C4: LOTTO 8 | D4: 1.16.34
A5: 12 | B5: 66 | C5: LOTTO 9 | D5: 1.06.13
A6: 12 | B6: 66 | C6: LOTTO 10 | D6: 1.08.60
A7: 12 | B7: 66 | C7: LOTTO 12 | D7: 1.00.00
A8: 11 | B8: 84 | C8: LOTTO 13/a e 13/b | D8: 0.29.30 + 0.35.90
A9: 12 | B9: 66 | C9: LOTTO 15/b | D9: 0.67.66
A11: 8 | B11: 238 | C11: 238/a | D11: 0.38.00
A12: 8 | B12: 238 | C12: 238/b | D12: 0.36.80
A13: 8 | B13: 238 | C13: 238/c | D13: 0.35.90
A14: 11 | B14: 46 | C14: 46/a | D14: 0.86.90
A15: 11 | B15: 46 | C15: 46/b | D15: 0.86.70
... A17: 11 | B17: 46 | C17: 46/d | D17: 0.88.60
A19: 4 | B19: 178 + 4113 | C19: uliveto | D19: 0.58.80 + 0.13.70

Sheet TERRENI FANTINI
A1: DATI CATASTALI
A2: FOGLIO | B2: PARTICELLA | C2: LOTTO | D2: SUPERFICIE (ha) | E2: SUPERFICIE (mq)
A3: 11 | B3: 84 | C3: LOTTO 5 | D3: 1.03.63 | E3: 10363
A4: 11 | B4: 84 | C4: LOTTO 7 | D4: 1.11.20 | E4: 11120
A5: 12 | B5: 66 | C5: LOTTO 14/A | D5: 0.98.50 | E5: 9850
A6: 12 | B6: 66 | C6: LOTTO 14/B | D6: 0.91.50 | E6: 9150
A7: 12 | B7: 66 | C7: LOTTO 15/A | D7: 0.62.30 | E7: 6230
A8: 11 | B8: 84 | C8: LOTTO 11 | D8: 1.07.60 | E8: 10760
A9: 12 | B9: 66 | C9: LOTTO 16 | D9: 1.30.22 | E9: 13022
A10: 14 | B10: 1 | D10: 0.78.24 | E10: 7824
G11: 7.83.19 | H11: =SUM(E3:E10) -> 78319

Sheet TERRENI PER BANDO AFFITTO
A1: DATI CATASTALI
A2: FOGLIO | B2: PARTICELLA | C2: LOTTO | D2: SUPERFICIE (ha) | E2: SUPERFICIE (mq) | F2: IMPORTO ANNUO/ha (€ 400,00) | G2: 400 | I2: MQ TOTALI | J2: primo canone 6 mesi maggio/nov 2021 | K2: primo canone 5 mesi GIUGNO/nov 2021
A3: 11 | B3: 84 | C3: LOTTO 6 | D3: 1.11.20 | E3: 11120 | F3: =E3*G2/10000 -> 444.8 | G3: =F3 -> 444.8 | H3: TORTELLA | K3: =G3/12*5 -> 185.33333
A4: 11 | B4: 84 | C4: LOTTO 8 | D4: 1.16.34 | E4: 11634 | F4: =E4*G2/10000 -> 465.36 | K4: =G4/12*5 -> 0
A5: 12 | B5: 66 | C5: LOTTO 9 | D5: 1.06.13 | E5: 10613 | F5: =E5*G2/10000 -> 424.52 | G5: OGGETTO DI BONIFICA terreni | K5: =G5/12*5 -> #VALUE!
A6: 11 | B6: 84 | C6: LOTTO 10 | D6: 1.08.60 | E6: 10860 | F6: =E6*G2/10000 -> 434.4 | G6: =F6 -> 434.4 | H6: ROMAGNOLI | K6: =G6/12*5 -> 181
A7: 11 | B7: 84 | C7: LOTTO 12 | D7: 1.00.00 | E7: 10000 | F7: =E7*G2/10000 -> 400 | K7: =G7/12*5 -> 0
A8: 11 | B8: 84 | C8: LOTTO 13/a e 13/b | D8: 0.29.30 + 0.35.90 | E8: =2930+3590 -> 6520 | F8: =E8*G2/10000 -> 260.8 | K8: =G8/12*5 -> 0
A9: 12 | B9: 66 | C9: LOTTO 15/b | D9: 0.67.66 | E9: 6766 | F9: =E9*G2/10000 -> 270.64 | K9: =G9/12*5 -> 0
K10: =G10/12*5 -> 0
A11: 8 | B11: 238 | C11: 238/a | D11: 0.38.00 | E11: 3800 | F11: =E11*G2/10000 -> 152 | H11: TESONE | K11: =G11/12*5 -> 0
A12: 8 | B12: 238 | C12: 238/b | D12: 0.36.80 | E12: 3680 | F12: =E12*G2/10000 -> 147.2 | K12: =G12/12*5 -> 0
A13: 8 | B13: 238 | C13: 238/c | D13: 0.35.90 | E13: 3590 | F13: =E13*G2/10000 -> 143.6 | G13: =F11+F12+F13 -> 442.8 | I13: =E11+E12+E13 -> 11070 | K13: =G13/12*5 -> 184.5
A14: 11 | B14: 46 | C14: 46/a | D14: 0.86.90 | E14: 8690 | F14: =E14*G2/10000 -> 347.6 | H14: ZULLI | I14: =E14+E15 -> 17360 | J14: =G15/12*6 -> 347.2 | K14: =G14/12*5 -> 0
A15: 11 | B15: 46 | C15: 46/b | D15: 0.86.70 | E15: 8670 | F15: =E15*G2/10000 -> 346.8 | G15: =F14+F15 -> 694.4 | K15: =G15/12*5 -> 289.33333
A16: 11 | B16: 46 | C16: 46/c | D16: 0.89.50 | E16: 8950 | F16: =E16*G2/10000 -> 358 | G16: =F16 -> 358 | H16: CARULLI | K16: =G16/12*5 -> 149.16667
A17: 11 | B17: 46 | C17: 46/d | D17: 0.88.60 | E17: 8860 | F17: =E17*G2/10000 -> 354.4
A19: 4 | B19: 178 + 4113 | C19: uliveto | D19: 0.58.80 + 0.13.70 | E19: =5880+1370 -> 7250 | F19: =E19*G2/10000 -> 290 | G19: =F19 -> 290 | H19: DI NELLA | J19: =G19/12*6 -> 145
G20: =SUM(G3:G19) -> 2664.4

Sheet partecipanti 
A1: N. | B1: NUMERO PROTOCOLLO ARRIVO | C1: DATA PROTOCOLLO | D1: DITTA | E1: titolo professionale | F1: volume d'affari | G1: proprietà/affitto terreni in Ha | H1: reddito familiare | I1: totale punteggio | J1: lotto interessato | K1: assegnazione
A2: 1 | B2: 5617 | C2: 44106 | D2: CLAUDIA ADRIANA DI NELLA, VIA MARAMIERI N. 42 - 66030 MOZZAGROGNA | E2: 1 | F2: 8 | G2: 13 | H2: 3 | I2: =SUM(E2:H2) -> 25 | J2: foglio 4 p.lla 178+4113 | K2: SI
A3: 2 | B3: 5642 | C3: 44117 | D3: ROSAMARIA CARULLI, C.DA CASTEL DI SETTE N. 66/A - 66030 MOZZAGROGNA | E3: 1 | F3: 9 | G3: campo non compilato | H3: campo non compilato | I3: =SUM(E3:H3) -> 10 | J3: 46/c
A4: 3 | B4: 5728 | C4: 44123 | D4: TESONE VINCENZO, C.DA LUCIANETTI N. 15 - 66030 MOZZAGROGNA | E4: 1 | F4: 9 | G4: 10 | H4: 4 | I4: =SUM(E4:H4) -> 24 | J4: lotto 6 - lotto 8 - 238/a - 238/b - 238/c
A5: 4 | B5: 5735 | C5: 44123 | D5: EDOARDO ANTONIO ROMAGNOLI, VIA DEL COLLE N. 10 - 66030 MOZZAGROGNA | E5: 3 | F5: 6 | G5: 0 | H5: 5 | I5: =SUM(E5:H5) -> 14 | J5: lotto 6 - lotto 8 - lotto 10 - lotto 12
A6: 5 | B6: 5737 | C6: 44123 | D6: ZULLI GIANFRANCO VIA VITTORIO EMANUELE III N. 67 – 66030 POGGIOFIORITO (CH) | E6: 3 | F6: 1 | G6: 1 | H6: 1 | I6: =SUM(E6:H6) -> 6 | J6: 46/a - 46/b - 46/c | K6: riserva
A7: 6 | B7: 5738 | C7: 44123 | D7: RINA TORTELLA, C.DA SERRE N. 89/A - 66034 LANCIANO | E7: 3 | F7: 6 | G7: 10 | H7: 1 | I7: =SUM(E7:H7) -> 20 | J7: lotto 6 - lotto 8 | K7: riserva

Sheet graduatoria
A1: N. | B1: DITTA | C1: totale punteggio | D1: lotto interessato | E1: assegnazione
A2: 1 | B2: CLAUDIA ADRIANA DI NELLA, VIA MARAMIERI N. 42 - 66030 MOZZAGROGNA | C2: ='partecipanti '!I2 -> 25 | D2: foglio 4 p.lla 178+4113 | E2: foglio 4 p.lla 178+4113
A3: 2 | B3: TESONE VINCENZO, C.DA LUCIANETTI N. 15 - 66030 MOZZAGROGNA | C3: ='partecipanti '!I4 -> 24 | D3: lotto 6 - lotto 8 - 238/a - 238/b - 238/c | E3: 238/a - 238/b - 238/c
A4: 3 | B4: EDOARDO ANTONIO ROMAGNOLI, VIA DEL COLLE N. 10 - 66030 MOZZAGROGNA | C4: ='partecipanti '!I5 -> 14 | D4: lotto 6 - lotto 8 - lotto 10 - lotto 12 | E4: LOTTO 10
A5: 4 | B5: ROSAMARIA CARULLI, C.DA CASTEL DI SETTE N. 66/A - 66030 MOZZAGROGNA | C5: ='partecipanti '!I3 -> 10 | D5: 46/c | E5: 46/c
A6: 5 | B6: RINA TORTELLA, C.DA SERRE N. 89/A - 66034 LANCIANO | C6: ='partecipanti '!I7 -> 20 | D6: lotto 6 - lotto 8 | E6: lotto 6
A7: 6 | B7: ZULLI GIANFRANCO VIA VITTORIO EMANUELE III N. 67 – 66030 POGGIOFIORITO (CH) | C7: ='partecipanti '!I6 -> 6 | D7: 46/a - 46/b - 46/c | E7: 46/a - 46/b
